BEGIN:VCALENDAR
VERSION:2.0
PRODID:-//TC BW 23 Ahlen - ECPv4.6.4//NONSGML v1.0//EN
CALSCALE:GREGORIAN
METHOD:PUBLISH
X-WR-CALNAME:TC BW 23 Ahlen
X-ORIGINAL-URL:http://www.tcbw23ahlen.de
X-WR-CALDESC:Events for TC BW 23 Ahlen
BEGIN:VEVENT
DTSTART;TZID=Europe/Berlin:20230819T090000
DTEND;TZID=Europe/Berlin:20230819T120000
DTSTAMP:20260422T023935
CREATED:20230415T173900Z
LAST-MODIFIED:20230415T173900Z
UID:5096-1692435600-1692446400@www.tcbw23ahlen.de
SUMMARY:Soester TV - 1. U12w
DESCRIPTION:\n\n\n\n\n\n\n\n\n \n\n\n\n\n\n\n\n\n\n \n\n \n\n\n\n\n\n\n\n\n\n\n\n \n \n\n
URL:http://www.tcbw23ahlen.de/?tribe_events=soester-tv-1-u12w
CATEGORIES:Mannschaftsspiel
END:VEVENT
END:VCALENDAR