BEGIN:VCALENDAR
VERSION:2.0
PRODID:-//TC BW 23 Ahlen - ECPv4.6.4//NONSGML v1.0//EN
CALSCALE:GREGORIAN
METHOD:PUBLISH
X-WR-CALNAME:TC BW 23 Ahlen
X-ORIGINAL-URL:http://www.tcbw23ahlen.de
X-WR-CALDESC:Events for TC BW 23 Ahlen
BEGIN:VEVENT
DTSTART;TZID=Europe/Berlin:20221231T190000
DTEND;TZID=Europe/Berlin:20230101T030000
DTSTAMP:20260422T010443
CREATED:20221230T205334Z
LAST-MODIFIED:20221230T205334Z
UID:4903-1672513200-1672542000@www.tcbw23ahlen.de
SUMMARY:Silvester-Party 2022
DESCRIPTION:\n\n\n\n\n\n\n\n\n \n\n\n\n\n\n\n\n\n\n \n\n \n\n\n\n\n\n\n\n\n\n\n\n\n\n\n\n\n\n\n\n\n \n\n  \nWir feiern gemeinsam im Clubheim ins Jubiläumsjahr. \n  \n \n  \n\n \n \n\n
URL:http://www.tcbw23ahlen.de/?tribe_events=silvester-party-2022
LOCATION:Am Stadtwald 7\, Ahlen\, Nordrhein-Westfalen\, 59227\, Deutschland
CATEGORIES:Erwachsene,Fest für alle ab 16 Jahren,Vereinstermin
ORGANIZER;CN="TC%20BW%2023%20Ahlen%20e.V.":MAILTO:info@tcbw23ahlen.de
END:VEVENT
END:VCALENDAR