BEGIN:VCALENDAR
VERSION:2.0
PRODID:-//TC BW 23 Ahlen - ECPv4.6.4//NONSGML v1.0//EN
CALSCALE:GREGORIAN
METHOD:PUBLISH
X-WR-CALNAME:TC BW 23 Ahlen
X-ORIGINAL-URL:http://www.tcbw23ahlen.de
X-WR-CALDESC:Events for TC BW 23 Ahlen
BEGIN:VEVENT
DTSTART;TZID=Europe/Berlin:20231202T190000
DTEND;TZID=Europe/Berlin:20231203T190000
DTSTAMP:20260421T214444
CREATED:20221230T201642Z
LAST-MODIFIED:20231109T165143Z
UID:4830-1701543600-1701630000@www.tcbw23ahlen.de
SUMMARY:Jahrhundert-Nikolausfest
DESCRIPTION:\n\n\n\n\n\n\n\n\n \n\n\n\n\n\n\n\n\n\n \n\n \n\n\n\n\n\n\n\n\n\n\n\n\n\n\n\n\n\n\n\n\n \n\nJahrhundert-Nikolausfest im Geisthövel 2.0 \nWir freuen uns auf einen schönen Abend mit Euch ! \n \n\n \n \n\n
URL:http://www.tcbw23ahlen.de/?tribe_events=nikolausfest-3
LOCATION:Freiheit 2\, Ahlen\, 59227\, Deutschland
CATEGORIES:Erwachsene,Fest für alle ab 16 Jahren,Vereinstermin
END:VEVENT
END:VCALENDAR