BEGIN:VCALENDAR
VERSION:2.0
PRODID:-//TC BW 23 Ahlen - ECPv4.6.4//NONSGML v1.0//EN
CALSCALE:GREGORIAN
METHOD:PUBLISH
X-WR-CALNAME:TC BW 23 Ahlen
X-ORIGINAL-URL:http://www.tcbw23ahlen.de
X-WR-CALDESC:Events for TC BW 23 Ahlen
BEGIN:VEVENT
DTSTART;TZID=Europe/Berlin:20240112T190000
DTEND;TZID=Europe/Berlin:20240112T220000
DTSTAMP:20260424T095744
CREATED:20231109T165506Z
LAST-MODIFIED:20231229T154411Z
UID:5689-1705086000-1705096800@www.tcbw23ahlen.de
SUMMARY:Neujahrs-Tennis
DESCRIPTION:\n\n\n\n\n\n\n\n\n \n\n\n\n\n\n\n\n\n\n \n\n \n\n\n\n\n\n\n\n\n\n\n\n\n\n\n\n\n\n\n\n\n \n\n \nWir begrüßen das neue Jahr mit einem Neujahrs-Sechser. \n\n \n \n\n
URL:http://www.tcbw23ahlen.de/?tribe_events=neujahrs-tennis
CATEGORIES:Erwachsene,Vereinstermin
END:VEVENT
END:VCALENDAR