BEGIN:VCALENDAR
VERSION:2.0
PRODID:-//TC BW 23 Ahlen - ECPv4.6.4//NONSGML v1.0//EN
CALSCALE:GREGORIAN
METHOD:PUBLISH
X-WR-CALNAME:TC BW 23 Ahlen
X-ORIGINAL-URL:http://www.tcbw23ahlen.de
X-WR-CALDESC:Events for TC BW 23 Ahlen
BEGIN:VEVENT
DTSTART;TZID=Europe/Berlin:20240920T203000
DTEND;TZID=Europe/Berlin:20240920T230000
DTSTAMP:20260422T221252
CREATED:20240913T094706Z
LAST-MODIFIED:20240913T094706Z
UID:5900-1726864200-1726873200@www.tcbw23ahlen.de
SUMMARY:Moonlight-Sechser für die Erwachsenen
DESCRIPTION:\n\n\n\n\n\n\n\n\n \n\n\n\n\n\n\n\n\n\n \n\n \n\n\n\n\n\n\n\n\n\n\n\n\n\n\n\n\n\n\n\n\n \n\n \nWir verabschieden die Sommersaison am Freitag\, 20.09.24 ab 20.30 h mit einem Moonlight-Sechser. \n\n \n \n\n
URL:http://www.tcbw23ahlen.de/?tribe_events=moonlight-sechser-fuer-die-erwachsenen
END:VEVENT
END:VCALENDAR