BEGIN:VCALENDAR
VERSION:2.0
PRODID:-//TC BW 23 Ahlen - ECPv4.6.4//NONSGML v1.0//EN
CALSCALE:GREGORIAN
METHOD:PUBLISH
X-WR-CALNAME:TC BW 23 Ahlen
X-ORIGINAL-URL:http://www.tcbw23ahlen.de
X-WR-CALDESC:Events for TC BW 23 Ahlen
BEGIN:VEVENT
DTSTART;TZID=Europe/Berlin:20240921T190000
DTEND;TZID=Europe/Berlin:20240921T213000
DTSTAMP:20260422T234523
CREATED:20240913T094828Z
LAST-MODIFIED:20240913T094828Z
UID:5907-1726945200-1726954200@www.tcbw23ahlen.de
SUMMARY:Moonlight-Sechser für alle Kids
DESCRIPTION:\n\n\n\n\n\n\n\n\n \n\n\n\n\n\n\n\n\n\n \n\n \n\n\n\n\n\n\n\n\n\n\n\n \nWir verabschieden die Sommersaison mit allen Kids am Samstag\, 21.09.24 ab 19.00 h mit einem Moonlight-Sechser. \n\n \n \n\n
URL:http://www.tcbw23ahlen.de/?tribe_events=moonlight-sechser-fuer-alle-kids
CATEGORIES:Vereinstermin
END:VEVENT
END:VCALENDAR