BEGIN:VCALENDAR
VERSION:2.0
PRODID:-//TC BW 23 Ahlen - ECPv4.6.4//NONSGML v1.0//EN
CALSCALE:GREGORIAN
METHOD:PUBLISH
X-WR-CALNAME:TC BW 23 Ahlen
X-ORIGINAL-URL:http://www.tcbw23ahlen.de
X-WR-CALDESC:Events for TC BW 23 Ahlen
BEGIN:VEVENT
DTSTART;TZID=Europe/Berlin:20230929T193000
DTEND;TZID=Europe/Berlin:20230929T223000
DTSTAMP:20260421T184011
CREATED:20231015T071329Z
LAST-MODIFIED:20231015T071357Z
UID:5588-1696015800-1696026600@www.tcbw23ahlen.de
SUMMARY:Moonlight-Sechser
DESCRIPTION:\n\n\n\n\n\n\n\n\n \n\n\n\n\n\n\n\n\n\n \n\n \n\n\n\n\n\n\n\n\n\n\n\nAnstatt des Stadtpokals laden die Sportwartinnen Anja und Sabine zum Moonlight-Sechser als Saisonabschluss ein. \n\n \n \n\n
URL:http://www.tcbw23ahlen.de/?tribe_events=moonlight-sechser
END:VEVENT
END:VCALENDAR