BEGIN:VCALENDAR
VERSION:2.0
PRODID:-//TC BW 23 Ahlen - ECPv4.6.4//NONSGML v1.0//EN
CALSCALE:GREGORIAN
METHOD:PUBLISH
X-WR-CALNAME:TC BW 23 Ahlen
X-ORIGINAL-URL:http://www.tcbw23ahlen.de
X-WR-CALDESC:Events for TC BW 23 Ahlen
BEGIN:VEVENT
DTSTART;TZID=Europe/Berlin:20230527T130000
DTEND;TZID=Europe/Berlin:20230528T235900
DTSTAMP:20260421T232849
CREATED:20230415T164236Z
LAST-MODIFIED:20230526T110255Z
UID:5001-1685192400-1685318340@www.tcbw23ahlen.de
SUMMARY:Maisel`s Cup 2023 - Erlebnis statt Ergebnis
DESCRIPTION:\n\n\n\n\n\n\n\n\n \n\n\n\n\n\n\n\n\n\n \n\n \n\n\n\n\n\n\n\n\n\n\n\n\n\n\n\n\n\n\n\n\n\n \n\n\nAuch in diesem Jahr möchten wir an Pfingsten wieder mit allen Mitgliedern\, Tennisinteressierten und Eltern ein Doppel-Turnier spielen. \nFrei nach dem Motto: „Erlebnis statt Ergebnis“ ! \nStart am Samstag 13 h – am Sonntag 10 h \n\n\n \n \n\n
URL:http://www.tcbw23ahlen.de/?tribe_events=maisels-cup-2023-erlebnis-statt-ergebnis
LOCATION:Am Stadtwald 7\, Ahlen\, Nordrhein-Westfalen\, 59227\, Deutschland
CATEGORIES:Fest für alle ab 16 Jahren,Vereinstermin
ATTACH;FMTTYPE=image/jpeg:http://www.tcbw23ahlen.de/wp-content/uploads/2023/05/PlakatMaisels23.jpg
ORGANIZER;CN="TC%20BW%2023%20Ahlen%20e.V.":MAILTO:info@tcbw23ahlen.de
END:VEVENT
END:VCALENDAR