BEGIN:VCALENDAR
VERSION:2.0
PRODID:-//TC BW 23 Ahlen - ECPv4.6.4//NONSGML v1.0//EN
CALSCALE:GREGORIAN
METHOD:PUBLISH
X-WR-CALNAME:TC BW 23 Ahlen
X-ORIGINAL-URL:http://www.tcbw23ahlen.de
X-WR-CALDESC:Events for TC BW 23 Ahlen
BEGIN:VEVENT
DTSTART;VALUE=DATE:20240518
DTEND;VALUE=DATE:20240520
DTSTAMP:20260422T171934
CREATED:20240215T164331Z
LAST-MODIFIED:20240215T164331Z
UID:5718-1715990400-1716163199@www.tcbw23ahlen.de
SUMMARY:Maisel`s Cup
DESCRIPTION:\n\n\n\n\n\n\n\n\n \n\n\n\n\n\n\n\n\n\n \n\n \n\n\n\n\n\n\n\n\n\n\n\nZwei Tage Tennis total.. \n\n \n \n\n
URL:http://www.tcbw23ahlen.de/?tribe_events=maisels-cup-2
END:VEVENT
END:VCALENDAR