BEGIN:VCALENDAR
VERSION:2.0
PRODID:-//TC BW 23 Ahlen - ECPv4.6.4//NONSGML v1.0//EN
CALSCALE:GREGORIAN
METHOD:PUBLISH
X-WR-CALNAME:TC BW 23 Ahlen
X-ORIGINAL-URL:http://www.tcbw23ahlen.de
X-WR-CALDESC:Events for TC BW 23 Ahlen
BEGIN:VEVENT
DTSTART;TZID=Europe/Berlin:20210626T090000
DTEND;TZID=Europe/Berlin:20210626T130000
DTSTAMP:20260426T010310
CREATED:20210621T163207Z
LAST-MODIFIED:20210621T163207Z
UID:4252-1624698000-1624712400@www.tcbw23ahlen.de
SUMMARY:KL: TuS Westfalia Vorhelm 1 - 1. U18w
DESCRIPTION:\n\n\n\n\n\n\n\n\n \n\n\n\n\n\n\n\n\n\n \n\n \n\n\n\n\n\n\n\n\n\n\n\n \n \n\n
URL:http://www.tcbw23ahlen.de/?tribe_events=kl-tus-westfalia-vorhelm-1-1-u18w
END:VEVENT
END:VCALENDAR