BEGIN:VCALENDAR
VERSION:2.0
PRODID:-//TC BW 23 Ahlen - ECPv4.6.4//NONSGML v1.0//EN
CALSCALE:GREGORIAN
METHOD:PUBLISH
X-WR-CALNAME:TC BW 23 Ahlen
X-ORIGINAL-URL:http://www.tcbw23ahlen.de
X-WR-CALDESC:Events for TC BW 23 Ahlen
BEGIN:VEVENT
DTSTART;TZID=Europe/Berlin:20210627T100000
DTEND;TZID=Europe/Berlin:20210627T170000
DTSTAMP:20260425T202605
CREATED:20210621T163342Z
LAST-MODIFIED:20210621T163342Z
UID:4258-1624788000-1624813200@www.tcbw23ahlen.de
SUMMARY:KL: 1. HE - TC Grävingholz 3
DESCRIPTION:\n\n\n\n\n\n\n\n\n \n\n\n\n\n\n\n\n\n\n \n\n \n\n\n\n\n\n\n\n\n\n\n\n \n \n\n
URL:http://www.tcbw23ahlen.de/?tribe_events=kl-1-he-tc-graevingholz-3
LOCATION:Am Stadtwald 7\, Ahlen\, Nordrhein-Westfalen\, 59227\, Deutschland
END:VEVENT
END:VCALENDAR