BEGIN:VCALENDAR
VERSION:2.0
PRODID:-//TC BW 23 Ahlen - ECPv4.6.4//NONSGML v1.0//EN
CALSCALE:GREGORIAN
METHOD:PUBLISH
X-WR-CALNAME:TC BW 23 Ahlen
X-ORIGINAL-URL:http://www.tcbw23ahlen.de
X-WR-CALDESC:Events for TC BW 23 Ahlen
BEGIN:VEVENT
DTSTART;TZID=Europe/Berlin:20220227T100000
DTEND;TZID=Europe/Berlin:20220227T160000
DTSTAMP:20260422T110218
CREATED:20211003T102323Z
LAST-MODIFIED:20211003T102323Z
UID:4367-1645956000-1645977600@www.tcbw23ahlen.de
SUMMARY:KK3: VfL Mark 2 - 3. HE
DESCRIPTION:\n\n\n\n\n\n\n\n\n \n\n\n\n\n\n\n\n\n\n \n\n \n\n\n\n\n\n\n\n\n\n\n\n \n \n\n
URL:http://www.tcbw23ahlen.de/?tribe_events=kk3-vfl-mark-2-3-he
CATEGORIES:Mannschaftsspiel
END:VEVENT
END:VCALENDAR