BEGIN:VCALENDAR
VERSION:2.0
PRODID:-//TC BW 23 Ahlen - ECPv4.6.4//NONSGML v1.0//EN
CALSCALE:GREGORIAN
METHOD:PUBLISH
X-WR-CALNAME:TC BW 23 Ahlen
X-ORIGINAL-URL:http://www.tcbw23ahlen.de
X-WR-CALDESC:Events for TC BW 23 Ahlen
BEGIN:VEVENT
DTSTART;TZID=Europe/Berlin:20220213T120000
DTEND;TZID=Europe/Berlin:20220213T160000
DTSTAMP:20260422T165454
CREATED:20211003T101754Z
LAST-MODIFIED:20211003T101754Z
UID:4354-1644753600-1644768000@www.tcbw23ahlen.de
SUMMARY:KK2: TC RW Aplerbeck - 2. HE
DESCRIPTION:\n\n\n\n\n\n\n\n\n \n\n\n\n\n\n\n\n\n\n \n\n \n\n\n\n\n\n\n\n\n\n\n\n \n \n\n
URL:http://www.tcbw23ahlen.de/?tribe_events=kk2-tc-rw-aplerbeck-2-he
CATEGORIES:Mannschaftsspiel
END:VEVENT
END:VCALENDAR