BEGIN:VCALENDAR
VERSION:2.0
PRODID:-//TC BW 23 Ahlen - ECPv4.6.4//NONSGML v1.0//EN
CALSCALE:GREGORIAN
METHOD:PUBLISH
X-WR-CALNAME:TC BW 23 Ahlen
X-ORIGINAL-URL:http://www.tcbw23ahlen.de
X-WR-CALDESC:Events for TC BW 23 Ahlen
BEGIN:VEVENT
DTSTART;TZID=Europe/Berlin:20210627T100000
DTEND;TZID=Europe/Berlin:20210627T130000
DTSTAMP:20260425T220020
CREATED:20210621T163253Z
LAST-MODIFIED:20210621T163307Z
UID:4254-1624788000-1624798800@www.tcbw23ahlen.de
SUMMARY:KK1: TC Unna 02 GW 1 - 1. DA 30
DESCRIPTION:\n\n\n\n\n\n\n\n\n \n\n\n\n\n\n\n\n\n\n \n\n \n\n\n\n\n\n\n\n\n\n\n\n \n \n\n
URL:http://www.tcbw23ahlen.de/?tribe_events=kk-tc-unna-02-gw-1-1-da-30
END:VEVENT
END:VCALENDAR