BEGIN:VCALENDAR
VERSION:2.0
PRODID:-//TC BW 23 Ahlen - ECPv4.6.4//NONSGML v1.0//EN
CALSCALE:GREGORIAN
METHOD:PUBLISH
X-WR-CALNAME:TC BW 23 Ahlen
X-ORIGINAL-URL:http://www.tcbw23ahlen.de
X-WR-CALDESC:Events for TC BW 23 Ahlen
BEGIN:VEVENT
DTSTART;TZID=Europe/Berlin:20220422T193000
DTEND;TZID=Europe/Berlin:20220422T210000
DTSTAMP:20260422T073644
CREATED:20220419T182338Z
LAST-MODIFIED:20220419T182527Z
UID:4457-1650655800-1650661200@www.tcbw23ahlen.de
SUMMARY:JHV - Jahreshauptversammlung
DESCRIPTION:\n\n\n\n\n\n\n\n\n \n\n\n\n\n\n\n\n\n\n \n\n \n\n\n\n\n\n\n\n\n\n\n\nWir treffen uns am 22.04.22 um 19.30 h zur diesjährigen Jahreshauptversammlung im Clubheim. \n\n \n \n\n
URL:http://www.tcbw23ahlen.de/?tribe_events=jhv-jahreshauptversammlung
LOCATION:Am Stadtwald 7\, Ahlen\, Nordrhein-Westfalen\, 59227\, Deutschland
CATEGORIES:Vereinstermin
END:VEVENT
END:VCALENDAR