BEGIN:VCALENDAR
VERSION:2.0
PRODID:-//TC BW 23 Ahlen - ECPv4.6.4//NONSGML v1.0//EN
CALSCALE:GREGORIAN
METHOD:PUBLISH
X-WR-CALNAME:TC BW 23 Ahlen
X-ORIGINAL-URL:http://www.tcbw23ahlen.de
X-WR-CALDESC:Events for TC BW 23 Ahlen
BEGIN:VEVENT
DTSTART;TZID=Europe/Berlin:20230312T120000
DTEND;TZID=Europe/Berlin:20230312T170000
DTSTAMP:20260422T202713
CREATED:20221230T203229Z
LAST-MODIFIED:20221230T203229Z
UID:4860-1678622400-1678640400@www.tcbw23ahlen.de
SUMMARY:Huckarder TC 77 -  1. DA30
DESCRIPTION:\n\n\n\n\n\n\n\n\n \n\n\n\n\n\n\n\n\n\n \n\n \n\n\n\n\n\n\n\n\n\n\n\n \n \n\n
URL:http://www.tcbw23ahlen.de/?tribe_events=huckarder-tc-77-1-da30
CATEGORIES:Mannschaftsspiel
END:VEVENT
END:VCALENDAR