BEGIN:VCALENDAR
VERSION:2.0
PRODID:-//TC BW 23 Ahlen - ECPv4.6.4//NONSGML v1.0//EN
CALSCALE:GREGORIAN
METHOD:PUBLISH
X-WR-CALNAME:TC BW 23 Ahlen
X-ORIGINAL-URL:http://www.tcbw23ahlen.de
X-WR-CALDESC:Events for TC BW 23 Ahlen
BEGIN:VEVENT
DTSTART;TZID=Europe/Berlin:20230924T100000
DTEND;TZID=Europe/Berlin:20230924T160000
DTSTAMP:20260421T171222
CREATED:20230415T181932Z
LAST-MODIFIED:20230415T181932Z
UID:5160-1695549600-1695571200@www.tcbw23ahlen.de
SUMMARY:Hörder TC 2 - 1. DA30
DESCRIPTION:\n\n\n\n\n\n\n\n\n \n\n\n\n\n\n\n\n\n\n \n\n \n\n\n\n\n\n\n\n\n\n\n\n \n \n\n
URL:http://www.tcbw23ahlen.de/?tribe_events=hoerder-tc-2-1-da30
CATEGORIES:Mannschaftsspiel
END:VEVENT
END:VCALENDAR