BEGIN:VCALENDAR
VERSION:2.0
PRODID:-//TC BW 23 Ahlen - ECPv4.6.4//NONSGML v1.0//EN
CALSCALE:GREGORIAN
METHOD:PUBLISH
X-WR-CALNAME:TC BW 23 Ahlen
X-ORIGINAL-URL:http://www.tcbw23ahlen.de
X-WR-CALDESC:Events for TC BW 23 Ahlen
BEGIN:VEVENT
DTSTART;TZID=Europe/Berlin:20230522T160000
DTEND;TZID=Europe/Berlin:20230522T180000
DTSTAMP:20260421T232656
CREATED:20230415T171816Z
LAST-MODIFIED:20230415T182245Z
UID:5048-1684771200-1684778400@www.tcbw23ahlen.de
SUMMARY:TC Herringen - 1. U8 gemischt
DESCRIPTION:\n\n\n\n\n\n\n\n\n \n\n\n\n\n\n\n\n\n\n \n\n \n\n\n\n\n\n\n\n\n\n\n\n \n \n\n
URL:http://www.tcbw23ahlen.de/?tribe_events=herringen-1-u8-gemischt
CATEGORIES:Mannschaftsspiel
END:VEVENT
END:VCALENDAR