BEGIN:VCALENDAR
VERSION:2.0
PRODID:-//TC BW 23 Ahlen - ECPv4.6.4//NONSGML v1.0//EN
CALSCALE:GREGORIAN
METHOD:PUBLISH
X-WR-CALNAME:TC BW 23 Ahlen
X-ORIGINAL-URL:http://www.tcbw23ahlen.de
X-WR-CALDESC:Events for TC BW 23 Ahlen
BEGIN:VEVENT
DTSTART;TZID=Europe/Berlin:20240427T130000
DTEND;TZID=Europe/Berlin:20240427T200000
DTSTAMP:20260422T153822
CREATED:20240215T164239Z
LAST-MODIFIED:20240410T064730Z
UID:5716-1714222800-1714248000@www.tcbw23ahlen.de
SUMMARY:DST - Deutschland spielt Tennis
DESCRIPTION:\n\n\n\n\n\n\n\n\n \n\n\n\n\n\n\n\n\n\n \n\n \n\n\n\n\n\n\n\n\n\n\n\n\n\n\n\n\n\n\n\n\n\n \n\nTag der offenen Tür \n\n \n \n\n
URL:http://www.tcbw23ahlen.de/?tribe_events=dst-deutschland-spielt-tennis-3
CATEGORIES:Vereinstermin
ATTACH;FMTTYPE=image/png:http://www.tcbw23ahlen.de/wp-content/uploads/2024/04/Tag-der-offenen-Tür2024PNG.png
END:VEVENT
END:VCALENDAR