BEGIN:VCALENDAR
VERSION:2.0
PRODID:-//TC BW 23 Ahlen - ECPv4.6.4//NONSGML v1.0//EN
CALSCALE:GREGORIAN
METHOD:PUBLISH
X-WR-CALNAME:TC BW 23 Ahlen
X-ORIGINAL-URL:http://www.tcbw23ahlen.de
X-WR-CALDESC:Events for TC BW 23 Ahlen
BEGIN:VEVENT
DTSTART;TZID=Europe/Berlin:20230902T130000
DTEND;TZID=Europe/Berlin:20230902T180000
DTSTAMP:20260422T083713
CREATED:20230415T175212Z
LAST-MODIFIED:20230415T175212Z
UID:5114-1693659600-1693677600@www.tcbw23ahlen.de
SUMMARY:Dortmunder TK RW 98 - 1. DA50
DESCRIPTION:\n\n\n\n\n\n\n\n\n \n\n\n\n\n\n\n\n\n\n \n\n \n\n\n\n\n\n\n\n\n\n\n\n \n \n\n
URL:http://www.tcbw23ahlen.de/?tribe_events=dortmunder-tk-rw-98-1-da50
CATEGORIES:Mannschaftsspiel
END:VEVENT
END:VCALENDAR