BEGIN:VCALENDAR
VERSION:2.0
PRODID:-//TC BW 23 Ahlen - ECPv4.6.4//NONSGML v1.0//EN
CALSCALE:GREGORIAN
METHOD:PUBLISH
X-WR-CALNAME:TC BW 23 Ahlen
X-ORIGINAL-URL:http://www.tcbw23ahlen.de
X-WR-CALDESC:Events for TC BW 23 Ahlen
BEGIN:VEVENT
DTSTART;TZID=Europe/Berlin:20240126T193000
DTEND;TZID=Europe/Berlin:20240126T233000
DTSTAMP:20260422T121710
CREATED:20231109T165350Z
LAST-MODIFIED:20231109T165357Z
UID:5685-1706297400-1706311800@www.tcbw23ahlen.de
SUMMARY:Doppelkopf-Turnier
DESCRIPTION:\n\n\n\n\n\n\n\n\n \n\n\n\n\n\n\n\n\n\n \n\n \n\n\n\n\n\n\n\n\n\n\n\n\n\n\n\n\n\n\n\n\n \n\nmit Michael. \nAnmeldungen bei Michael Schürmann unter festwart@tcbw23ahlen.de \n \n\n \n \n\n
URL:http://www.tcbw23ahlen.de/?tribe_events=doppelkopf-turnier-2
CATEGORIES:Erwachsene,Vereinstermin
END:VEVENT
END:VCALENDAR