BEGIN:VCALENDAR
VERSION:2.0
PRODID:-//TC BW 23 Ahlen - ECPv4.6.4//NONSGML v1.0//EN
CALSCALE:GREGORIAN
METHOD:PUBLISH
X-WR-CALNAME:TC BW 23 Ahlen
X-ORIGINAL-URL:http://www.tcbw23ahlen.de
X-WR-CALDESC:Events for TC BW 23 Ahlen
BEGIN:VEVENT
DTSTART;TZID=Europe/Berlin:20230127T190000
DTEND;TZID=Europe/Berlin:20230127T233000
DTSTAMP:20260422T152544
CREATED:20221230T203939Z
LAST-MODIFIED:20221230T203939Z
UID:4878-1674846000-1674862200@www.tcbw23ahlen.de
SUMMARY:Doppelkopf-Turnier
DESCRIPTION:\n\n\n\n\n\n\n\n\n \n\n\n\n\n\n\n\n\n\n \n\n \n\n\n\n\n\n\n\n\n\n\n\nmit Organisator Michael Schürmann \n\n \n \n\n
URL:http://www.tcbw23ahlen.de/?tribe_events=doppelkopf-turnier
LOCATION:Am Stadtwald 7\, Ahlen\, Nordrhein-Westfalen\, 59227\, Deutschland
CATEGORIES:Erwachsene,Jugend,Vereinstermin
ORGANIZER;CN="TC%20BW%2023%20Ahlen%20e.V.":MAILTO:info@tcbw23ahlen.de
END:VEVENT
END:VCALENDAR