BEGIN:VCALENDAR
VERSION:2.0
PRODID:-//TC BW 23 Ahlen - ECPv4.6.4//NONSGML v1.0//EN
CALSCALE:GREGORIAN
METHOD:PUBLISH
X-WR-CALNAME:TC BW 23 Ahlen
X-ORIGINAL-URL:http://www.tcbw23ahlen.de
X-WR-CALDESC:Events for TC BW 23 Ahlen
BEGIN:VEVENT
DTSTART;TZID=Europe/Berlin:20230501T100000
DTEND;TZID=Europe/Berlin:20230501T130000
DTSTAMP:20260421T233020
CREATED:20230415T170436Z
LAST-MODIFIED:20230426T102613Z
UID:5010-1682935200-1682946000@www.tcbw23ahlen.de
SUMMARY:ATC - 1. U12m
DESCRIPTION:\n\n\n\n\n\n\n\n\n \n\n\n\n\n\n\n\n\n\n \n\n \n\n\n\n\n\n\n\n\n\n\n\nursprünglich am 29.04.23 \n\n \n \n\n
URL:http://www.tcbw23ahlen.de/?tribe_events=atc-1-u12-m
LOCATION:Sachsenstr.\, Ahlen
CATEGORIES:Mannschaftsspiel
END:VEVENT
END:VCALENDAR