BEGIN:VCALENDAR
VERSION:2.0
PRODID:-//TC BW 23 Ahlen - ECPv4.6.4//NONSGML v1.0//EN
CALSCALE:GREGORIAN
METHOD:PUBLISH
X-WR-CALNAME:TC BW 23 Ahlen
X-ORIGINAL-URL:http://www.tcbw23ahlen.de
X-WR-CALDESC:Events for TC BW 23 Ahlen
BEGIN:VEVENT
DTSTART;VALUE=DATE:20220606
DTEND;VALUE=DATE:20220613
DTSTAMP:20260422T041022
CREATED:20220419T182428Z
LAST-MODIFIED:20220419T182511Z
UID:4447-1654473600-1655078399@www.tcbw23ahlen.de
SUMMARY:Ahlener Stadtmeisterschaften 2022
DESCRIPTION:\n\n\n\n\n\n\n\n\n \n\n\n\n\n\n\n\n\n\n \n\n \n\n\n\n\n\n\n\n\n\n\n\nDie Ahlener Jugend-Stadtmeisterschaften (Ausrichter TuS Westfalia Vorhelm e.V.) finden vom 06.-12.06.22 in Vorhelm statt. Weitere Infos unter Downloads. \n\n \n \n\n
URL:http://www.tcbw23ahlen.de/?tribe_events=ahlener-stadtmeisterschaften-2022
CATEGORIES:Verbands-, Bezirks- oder Kreisturnier
END:VEVENT
END:VCALENDAR