BEGIN:VCALENDAR
VERSION:2.0
PRODID:-//TC BW 23 Ahlen - ECPv4.6.4//NONSGML v1.0//EN
CALSCALE:GREGORIAN
METHOD:PUBLISH
X-WR-CALNAME:TC BW 23 Ahlen
X-ORIGINAL-URL:http://www.tcbw23ahlen.de
X-WR-CALDESC:Events for TC BW 23 Ahlen
BEGIN:VEVENT
DTSTART;VALUE=DATE:20230612
DTEND;VALUE=DATE:20230619
DTSTAMP:20260421T214752
CREATED:20221230T202420Z
LAST-MODIFIED:20221230T202420Z
UID:4842-1686528000-1687132799@www.tcbw23ahlen.de
SUMMARY:Ahlener Jugend-Stadtmeisterschaften 2023
DESCRIPTION:\n\n\n\n\n\n\n\n\n \n\n\n\n\n\n\n\n\n\n \n\n \n\n\n\n\n\n\n\n\n\n\n\nAhlener Jugend-Stadtmeisterschaften 2022\nAusrichter: TC Blau-Weiß 23\nU8 bis U 18 – Einzel \n\n \n \n\n
URL:http://www.tcbw23ahlen.de/?tribe_events=ahlener-jugend-stadtmeisterschaften-2023
LOCATION:Am Stadtwald 7\, Ahlen\, Nordrhein-Westfalen\, 59227\, Deutschland
CATEGORIES:Jugend,Verbands-, Bezirks- oder Kreisturnier
ORGANIZER;CN="TC%20BW%2023%20Ahlen%20e.V.":MAILTO:info@tcbw23ahlen.de
END:VEVENT
END:VCALENDAR