BEGIN:VCALENDAR
VERSION:2.0
PRODID:-//TC BW 23 Ahlen - ECPv4.6.4//NONSGML v1.0//EN
CALSCALE:GREGORIAN
METHOD:PUBLISH
X-WR-CALNAME:TC BW 23 Ahlen
X-ORIGINAL-URL:http://www.tcbw23ahlen.de
X-WR-CALDESC:Events for TC BW 23 Ahlen
BEGIN:VEVENT
DTSTART;TZID=Europe/Berlin:20230304T180000
DTEND;TZID=Europe/Berlin:20230304T233000
DTSTAMP:20260422T172053
CREATED:20221230T203441Z
LAST-MODIFIED:20221230T203441Z
UID:4866-1677952800-1677972600@www.tcbw23ahlen.de
SUMMARY:1. HE40 - Sölderholz 2
DESCRIPTION:\n\n\n\n\n\n\n\n\n \n\n\n\n\n\n\n\n\n\n \n\n \n\n\n\n\n\n\n\n\n\n\n\n \n \n\n
URL:http://www.tcbw23ahlen.de/?tribe_events=1-he40-soelderholz-2
LOCATION:Am Stadtwald 7\, Ahlen\, Nordrhein-Westfalen\, 59227\, Deutschland
CATEGORIES:Mannschaftsspiel
ORGANIZER;CN="TC%20BW%2023%20Ahlen%20e.V.":MAILTO:info@tcbw23ahlen.de
END:VEVENT
END:VCALENDAR