BEGIN:VCALENDAR
VERSION:2.0
PRODID:-//TC BW 23 Ahlen - ECPv4.6.4//NONSGML v1.0//EN
CALSCALE:GREGORIAN
METHOD:PUBLISH
X-WR-CALNAME:TC BW 23 Ahlen
X-ORIGINAL-URL:http://www.tcbw23ahlen.de
X-WR-CALDESC:Events for TC BW 23 Ahlen
BEGIN:VEVENT
DTSTART;TZID=Europe/Berlin:20231119T100000
DTEND;TZID=Europe/Berlin:20231119T180000
DTSTAMP:20260422T011230
CREATED:20231015T072540Z
LAST-MODIFIED:20231015T072540Z
UID:5603-1700388000-1700416800@www.tcbw23ahlen.de
SUMMARY:1. DA 40 - THC im VfL Bochum
DESCRIPTION:\n\n\n\n\n\n\n\n\n \n\n\n\n\n\n\n\n\n\n \n\n \n\n\n\n\n\n\n\n\n\n\n\n\n\n\n\n\n\n\n\n \n\n \n\n \n \n\n
URL:http://www.tcbw23ahlen.de/?tribe_events=1-da-40-thc-im-vfl-bochum
LOCATION:Am Stadtwald 7\, Ahlen\, Nordrhein-Westfalen\, 59227\, Deutschland
CATEGORIES:Mannschaftsspiel
END:VEVENT
END:VCALENDAR